BEGIN:VCALENDAR
VERSION:2.0
PRODID:-//hacksw/handcal//NONSGML v1.0//EN
CALSCALE:GREGORIAN
X-WR-TIMEZONE:Europe/Vienna
BEGIN:VEVENT
DESCRIPTION:Prijave na glasbeni natečaj CITYBAND
DTSTART:20260420T000000
DTEND:20260531T235900
URL;VALUE=URI:https://www.city-center.si/si/events/prijave-na-glasbeni-natecaj-cityband/2026-04-20/2026-05-31/
SUMMARY:Prijave na glasbeni natečaj CITYBAND
DTSTAMP:20260421T000259
UID:69e6beb340dcb
END:VEVENT
END:VCALENDAR